BEGIN:VCALENDAR
METHOD:PUBLISH
VERSION:2.0
PRODID:-//WoltLab GmbH//WoltLab Suite Calendar 5.4//EN
CALSCALE:GREGORIAN
X-WR-CALNAME;VALUE=TEXT:Carlisle Import Show
BEGIN:VEVENT
TRANSP:TRANSPARENT
UID:event-1@classicopels.com
URL:https://classicopels.com/calendar/event/1-carlisle-import-show/
DTSTART;VALUE=DATE:20150515
DTSTAMP:20150515T000000Z
CREATED:20150515T000000Z
SUMMARY:Carlisle Import Show
DESCRIPTION:Annual Opels at Carlisle event
LOCATION:1000 Bryn Mawr Road\, Carlisle\, PA 17013\, USA
GEO:40.2182655;-77.1840591
DTEND;VALUE=DATE:20150518
END:VEVENT
END:VCALENDAR
