BEGIN:VCALENDAR
METHOD:PUBLISH
VERSION:2.0
PRODID:-//WoltLab GmbH//WoltLab Suite Calendar 5.4//EN
CALSCALE:GREGORIAN
X-WR-CALNAME;VALUE=TEXT:2015 Deutsche Classic - Oley\, PA
BEGIN:VEVENT
TRANSP:OPAQUE
UID:event-10@classicopels.com
URL:https://classicopels.com/calendar/event/10-2015-deutsche-classic-oley-p
 a/
DTSTART:20150711T120000Z
DTSTAMP:20150711T120000Z
CREATED:20150711T120000Z
SUMMARY:2015 Deutsche Classic - Oley\, PA
DESCRIPTION:The 11th annual Deutsche Classic will be held on July 11 at the
  Oley Fairgrounds in Oley\, PA.\nThe event runs from 8:00 to 4:00.\n\nInfo 
 here: Deutsche Classic.com [URL:http://www.deutsche%20classic.com]
LOCATION:26 Jefferson Street\, Oley\, PA 19547\, USA
GEO:40.3866615;-75.7846832
DTEND:20150711T200000Z
END:VEVENT
END:VCALENDAR
