BEGIN:VCALENDAR
METHOD:PUBLISH
VERSION:2.0
PRODID:-//WoltLab GmbH//WoltLab Suite Calendar 5.4//EN
CALSCALE:GREGORIAN
X-WR-CALNAME;VALUE=TEXT:Opels on the Lawn/German Car Day
BEGIN:VEVENT
TRANSP:OPAQUE
UID:event-12@classicopels.com
URL:https://classicopels.com/calendar/event/12-opels-on-the-lawn-german-car
 -day/
DTSTART:20151010T120000Z
DTSTAMP:20151010T120000Z
CREATED:20151010T120000Z
SUMMARY:Opels on the Lawn/German Car Day
DESCRIPTION:The rescheduled German Car day will be held on October 10th\n\n
 Details: http://larzanderson.org/events/lawn-events/2015lawnschedule/german
 15/
LOCATION:Larz Anderson Park\, 15 Newton Street\, Brookline\, MA 02445\, USA
GEO:42.3113632;-71.1346436
DTEND:20151010T180000Z
END:VEVENT
END:VCALENDAR
