BEGIN:VCALENDAR
METHOD:PUBLISH
VERSION:2.0
PRODID:-//WoltLab GmbH//WoltLab Suite Calendar 5.4//EN
CALSCALE:GREGORIAN
X-WR-CALNAME;VALUE=TEXT:Opel Nationals at the Carlisle Import/Performance s
 how
BEGIN:VEVENT
TRANSP:TRANSPARENT
UID:event-15@classicopels.com
URL:https://classicopels.com/calendar/event/15-opel-nationals-at-the-carlis
 le-import-performance-show/
DTSTART;VALUE=DATE:20160520
DTSTAMP:20160520T000000Z
CREATED:20160520T000000Z
SUMMARY:Opel Nationals at the Carlisle Import/Performance show
DESCRIPTION:The annual Opel's at Carlisle show is also hosting the Opel Nat
 ionals this year.
LOCATION:1000 Bryn Mawr Rd\, Carlisle\, PA 17013\, USA
GEO:40.2182655;-77.1840591
DTEND;VALUE=DATE:20160523
CATEGORIES:Carlisle,Opel Nationals
END:VEVENT
END:VCALENDAR
