BEGIN:VCALENDAR
METHOD:PUBLISH
VERSION:2.0
PRODID:-//WoltLab GmbH//WoltLab Suite Calendar 5.4//EN
CALSCALE:GREGORIAN
X-WR-CALNAME;VALUE=TEXT:Deutsche Classic Oley\, PA
BEGIN:VEVENT
TRANSP:OPAQUE
UID:event-21@classicopels.com
URL:https://classicopels.com/calendar/event/21-deutsche-classic-oley-pa/
DTSTART:20160709T120000Z
DTSTAMP:20160709T120000Z
CREATED:20160709T120000Z
SUMMARY:Deutsche Classic Oley\, PA
DESCRIPTION:Car show and swap meet. Details: http://www.DeutscheClassic.com
  [URL:http://www.deutscheclassic.com]
LOCATION:Oley Fire Company Fairgrounds\, 26 Jefferson St\, Oley\, PA 19547\
 , USA
GEO:40.3866539;-75.784668
DTEND:20160709T200000Z
END:VEVENT
END:VCALENDAR
