BEGIN:VCALENDAR
METHOD:PUBLISH
VERSION:2.0
PRODID:-//WoltLab GmbH//WoltLab Suite Calendar 5.4//EN
CALSCALE:GREGORIAN
X-WR-CALNAME;VALUE=TEXT:OctOpelfest 2016
BEGIN:VEVENT
TRANSP:OPAQUE
UID:event-22@classicopels.com
URL:https://classicopels.com/calendar/event/22-octopelfest-2016/
DTSTART:20160930T160000Z
DTSTAMP:20160930T160000Z
CREATED:20160930T160000Z
SUMMARY:OctOpelfest 2016
DESCRIPTION:Hello All\,\n\nLynn and I would like to announce the dates for 
 OctOpelfest 2016. We will be hosting it at our home in Plumsteadville\, Pa.
  from September 30th through October 2nd.\n\nYou all know the drill by now\
 , so please RSVP and post your ideas and questions here. Plenty of notice t
 his year\, so lets plan a great one!\n\nDuane
LOCATION:Plumsteadville\, PA\, USA
GEO:40.3864937;-75.1464844
DTEND:20161002T190000Z
END:VEVENT
END:VCALENDAR
