BEGIN:VCALENDAR
METHOD:PUBLISH
VERSION:2.0
PRODID:-//WoltLab GmbH//WoltLab Suite Calendar 5.4//EN
CALSCALE:GREGORIAN
X-WR-CALNAME;VALUE=TEXT:Rt 66 Mother Road festival
BEGIN:VEVENT
TRANSP:OPAQUE
UID:event-24@classicopels.com
URL:https://classicopels.com/calendar/event/24-rt-66-mother-road-festival/
DTSTART:20160923T170000Z
DTSTAMP:20160923T170000Z
CREATED:20160923T170000Z
SUMMARY:Rt 66 Mother Road festival
DESCRIPTION:The 2016 Route 66 Mother Road Festival will be held in Springfi
 eld IL on Sept. 23-25. Opel's will be lined up next to the Lincoln Library.
 \n\nAs with past years the Club Hotel Info about the same. We have a block 
 out of 35 rooms.\n\nClub Hotel/ Route 66 Hotel & Conference Center\n625 E. 
 Saint Joseph St.\nSpringfield\, IL 62703\n217-529-6626\n\nRoom Rate/ $55.00
  per night plus Tax\n\nWe will have the hospitality room for Friday and Sat
 urday nights.
LOCATION:Springfield\, IL\, USA
GEO:39.781723;-89.6501465
DTEND:20160925T200000Z
END:VEVENT
END:VCALENDAR
