BEGIN:VCALENDAR
METHOD:PUBLISH
VERSION:2.0
PRODID:-//WoltLab GmbH//WoltLab Suite Calendar 5.4//EN
CALSCALE:GREGORIAN
X-WR-CALNAME;VALUE=TEXT:Opels on the Lawn - Brookline\, MA
BEGIN:VEVENT
TRANSP:OPAQUE
UID:event-4@classicopels.com
URL:https://classicopels.com/calendar/event/4-opels-on-the-lawn-brookline-m
 a/
DTSTART:20150621T130000Z
DTSTAMP:20150621T130000Z
CREATED:20150621T130000Z
SUMMARY:Opels on the Lawn - Brookline\, MA
DESCRIPTION:Opels on the lawn is part of the Larz Anderson Museum's German 
 Car Day.\n\nDetails here: http://larzanderson.org/events/lawn-events/2015la
 wnschedule/german15/
LOCATION:Larz Anderson Park\, 15 Newton Street\, Brookline\, MA 02445\, USA
GEO:42.3113632;-71.1346436
DTEND:20150621T190000Z
END:VEVENT
END:VCALENDAR
