BEGIN:VCALENDAR
METHOD:PUBLISH
VERSION:2.0
PRODID:-//WoltLab GmbH//WoltLab Suite Calendar 5.4//EN
CALSCALE:GREGORIAN
X-WR-CALNAME;VALUE=TEXT:Opels at Carlisle
BEGIN:VEVENT
TRANSP:OPAQUE
UID:event-57@classicopels.com
URL:https://classicopels.com/calendar/event/57-opels-at-carlisle/
DTSTART:20200814T130000Z
DTSTAMP:20200814T130000Z
CREATED:20200814T130000Z
SUMMARY:Opels at Carlisle
DESCRIPTION:NEW Date\nAnnual Opels at Carlisle meet in Carlisle\, PA\n\nDet
 ails: Carlisle Import and Performance Nationals [URL:https://carlisleevents
 .com/events/events-detail/index?id=import+and+performance+nationals]
LOCATION:1000 Bryn Mawr Rd\, Carlisle\, PA 17013\, USA
GEO:40.2176285;-77.1824265
DTEND:20200816T140000Z
END:VEVENT
END:VCALENDAR
