BEGIN:VCALENDAR
METHOD:PUBLISH
VERSION:2.0
PRODID:-//WoltLab GmbH//WoltLab Suite Calendar 5.4//EN
CALSCALE:GREGORIAN
X-WR-CALNAME;VALUE=TEXT:EuroBrit Car & Bike Show
BEGIN:VEVENT
TRANSP:TRANSPARENT
UID:event-6@classicopels.com
URL:https://classicopels.com/calendar/event/6-eurobrit-car-bike-show/
DTSTART;VALUE=DATE:20150606
DTSTAMP:20150606T000000Z
CREATED:20150606T000000Z
SUMMARY:EuroBrit Car & Bike Show
DESCRIPTION:EuroBrit Auto & Bike Expo 2015\n An all European car & bike sho
 w. Starts the evening of June 5th with a scenic drive around the Huntsville
 \, AL area ending with a dinner provided by North Alabama British Motoring 
 Society. Saturday\, June 6st show will be held at Dublin Park in Madison\, 
 AL under the trees providing shade and a scenic setting. Coffee\, drinks an
 d lunch will be available onsite. All proceeds from the car show and lunch 
 will be donated to Autism Resource Foundation\, a local charity involved in
  several other automotive events in the area.\n\n\n\nAll European cars and 
 motorcycles are invited to participate.\n\n\n\nSee http://nabms.org/EuroBri
 t/EuroBritHome.htm for more info.
LOCATION:Dublin Park\, 8324 Old Madison Pike\, Madison\, AL 35758\, USA
GEO:34.7066002;-86.7342758
DTEND;VALUE=DATE:20150607
END:VEVENT
END:VCALENDAR
