BEGIN:VCALENDAR
METHOD:PUBLISH
VERSION:2.0
PRODID:-//WoltLab GmbH//WoltLab Suite Calendar 5.4//EN
CALSCALE:GREGORIAN
X-WR-CALNAME;VALUE=TEXT:jcWhitney Free car show
BEGIN:VEVENT
TRANSP:TRANSPARENT
UID:event-7@classicopels.com
URL:https://classicopels.com/calendar/event/7-jcwhitney-free-car-show/
DTSTART;VALUE=DATE:20150503
DTSTAMP:20150503T000000Z
CREATED:20150503T000000Z
SUMMARY:jcWhitney Free car show
DESCRIPTION:enter as compact sports car class Z
LOCATION:Progress Parkway\, LaSalle\, IL 61301\, USA
GEO:41.3639679;-89.0197296
DTEND;VALUE=DATE:20150504
END:VEVENT
END:VCALENDAR
